BEGIN:VCALENDAR
VERSION:2.0
PRODID:-//centerpointe.org//NONSGML kigkonsult.se iCalcreator 2.30.10//
CALSCALE:GREGORIAN
METHOD:PUBLISH
UID:9e61303a-6d4b-46c9-8c19-f843a718f188
X-WR-CALDESC:
X-WR-RELCALID:441339bb12d6feec9c138bcca332022b
X-WR-TIMEZONE:America/Chicago
BEGIN:VTIMEZONE
TZID:America/Chicago
BEGIN:STANDARD
TZNAME:CST
DTSTART:20251102T020000
TZOFFSETFROM:-0500
TZOFFSETTO:-0600
RDATE:20261101T020000
END:STANDARD
BEGIN:DAYLIGHT
TZNAME:CDT
DTSTART:20260308T020000
TZOFFSETFROM:-0600
TZOFFSETTO:-0500
RDATE:20270314T020000
END:DAYLIGHT
END:VTIMEZONE
BEGIN:VEVENT
UID:ec00484d-942e-4961-b59e-1262fe04815a
DTSTAMP:20260426T010721Z
DESCRIPTION:
DTSTART;TZID=America/Chicago:20260401T140000
DTEND;TZID=America/Chicago:20260401T150000
LOCATION:2202 S. 11th St.\, Lincoln\, NE 68502 US
SUMMARY:Peer Empowerment Connections Group
END:VEVENT
END:VCALENDAR
