BEGIN:VCALENDAR
VERSION:2.0
PRODID:-//centerpointe.org//NONSGML kigkonsult.se iCalcreator 2.30.10//
CALSCALE:GREGORIAN
METHOD:PUBLISH
UID:ca560c18-37df-4877-84ad-f6c42cdc5944
X-WR-CALDESC:
X-WR-RELCALID:af2fee8ba9d5b31af4045179900c06ce
X-WR-TIMEZONE:America/Chicago
BEGIN:VTIMEZONE
TZID:America/Chicago
BEGIN:STANDARD
TZNAME:CST
DTSTART:20251102T020000
TZOFFSETFROM:-0500
TZOFFSETTO:-0600
RDATE:20261101T020000
END:STANDARD
BEGIN:DAYLIGHT
TZNAME:CDT
DTSTART:20260308T020000
TZOFFSETFROM:-0600
TZOFFSETTO:-0500
RDATE:20270314T020000
END:DAYLIGHT
END:VTIMEZONE
BEGIN:VEVENT
UID:6419904b-bc38-48db-9db9-2a01ce7f1588
DTSTAMP:20260426T010344Z
DESCRIPTION:
DTSTART;TZID=America/Chicago:20260402T120000
DTEND;TZID=America/Chicago:20260402T130000
LOCATION:2202 S. 11th St.\, Lincoln\, NE 68502 US
SUMMARY:SMART Recovery
END:VEVENT
END:VCALENDAR
