BEGIN:VCALENDAR
VERSION:2.0
PRODID:-//centerpointe.org//NONSGML kigkonsult.se iCalcreator 2.30.10//
CALSCALE:GREGORIAN
METHOD:PUBLISH
UID:76452f66-f8ca-4fc9-9a99-5e58683d9408
X-WR-CALDESC:
X-WR-RELCALID:4b9eaa4fa4fb163e98ae9818e7aeb9a7
X-WR-TIMEZONE:America/Chicago
BEGIN:VTIMEZONE
TZID:America/Chicago
BEGIN:STANDARD
TZNAME:CST
DTSTART:20251102T020000
TZOFFSETFROM:-0500
TZOFFSETTO:-0600
RDATE:20261101T020000
END:STANDARD
BEGIN:DAYLIGHT
TZNAME:CDT
DTSTART:20260308T020000
TZOFFSETFROM:-0600
TZOFFSETTO:-0500
RDATE:20270314T020000
END:DAYLIGHT
END:VTIMEZONE
BEGIN:VEVENT
UID:12d13791-17bc-4014-802d-3af98d81aaa6
DTSTAMP:20260426T011110Z
DESCRIPTION:
DTSTART;TZID=America/Chicago:20260402T173000
DTEND;TZID=America/Chicago:20260402T193000
LOCATION:2202 S 11th St\, Lincoln\, NE 68502 US
SUMMARY:Women's Yoga of 12-Step Recovery
END:VEVENT
END:VCALENDAR
