BEGIN:VCALENDAR
VERSION:2.0
PRODID:-//centerpointe.org//NONSGML kigkonsult.se iCalcreator 2.30.10//
CALSCALE:GREGORIAN
METHOD:PUBLISH
UID:16d424ad-bd17-43b5-9453-03a5c15d61c6
X-WR-CALDESC:
X-WR-RELCALID:04dba69633c3fd374419721fe45042cf
X-WR-TIMEZONE:America/Chicago
BEGIN:VTIMEZONE
TZID:America/Chicago
BEGIN:STANDARD
TZNAME:CST
DTSTART:20251102T020000
TZOFFSETFROM:-0500
TZOFFSETTO:-0600
RDATE:20261101T020000
END:STANDARD
BEGIN:DAYLIGHT
TZNAME:CDT
DTSTART:20260308T020000
TZOFFSETFROM:-0600
TZOFFSETTO:-0500
RDATE:20270314T020000
END:DAYLIGHT
END:VTIMEZONE
BEGIN:VEVENT
UID:1a02cbf7-e810-47a6-92cd-97dfdb20ec29
DTSTAMP:20260426T010303Z
DESCRIPTION:
DTSTART;TZID=America/Chicago:20260406T140000
DTEND;TZID=America/Chicago:20260406T150000
LOCATION:2202 S. 11th St. \, Lincoln \, NE 68502 US
SUMMARY:WRAP Group
END:VEVENT
END:VCALENDAR
