BEGIN:VCALENDAR
VERSION:2.0
PRODID:-//centerpointe.org//NONSGML kigkonsult.se iCalcreator 2.30.10//
CALSCALE:GREGORIAN
METHOD:PUBLISH
UID:b6f9d948-2f7c-42a9-8eca-b0376b8ce712
X-WR-CALDESC:
X-WR-RELCALID:15f6426e8563a5fd1a8266dd367f26c4
X-WR-TIMEZONE:America/Chicago
BEGIN:VTIMEZONE
TZID:America/Chicago
BEGIN:STANDARD
TZNAME:CST
DTSTART:20251102T020000
TZOFFSETFROM:-0500
TZOFFSETTO:-0600
RDATE:20261101T020000
END:STANDARD
BEGIN:DAYLIGHT
TZNAME:CDT
DTSTART:20260308T020000
TZOFFSETFROM:-0600
TZOFFSETTO:-0500
RDATE:20270314T020000
END:DAYLIGHT
END:VTIMEZONE
BEGIN:VEVENT
UID:2fbcc82d-9e07-4760-9004-318cf3ac4486
DTSTAMP:20260426T010225Z
DESCRIPTION:
DTSTART;TZID=America/Chicago:20260406T050000
DTEND;TZID=America/Chicago:20260410T050001
LOCATION:4715 S 132nd Street\, Omaha\, NE 68137 US
SUMMARY:Integrated Peer Support Training
END:VEVENT
END:VCALENDAR
