BEGIN:VCALENDAR
VERSION:2.0
PRODID:-//centerpointe.org//NONSGML kigkonsult.se iCalcreator 2.30.10//
CALSCALE:GREGORIAN
METHOD:PUBLISH
UID:fee223c0-7415-4e19-9d14-71478a474c59
X-WR-CALDESC:
X-WR-RELCALID:5e8f57cd679bb3dd096cb4f85e10798f
X-WR-TIMEZONE:America/Chicago
BEGIN:VTIMEZONE
TZID:America/Chicago
BEGIN:STANDARD
TZNAME:CST
DTSTART:20251102T020000
TZOFFSETFROM:-0500
TZOFFSETTO:-0600
RDATE:20261101T020000
END:STANDARD
BEGIN:DAYLIGHT
TZNAME:CDT
DTSTART:20260308T020000
TZOFFSETFROM:-0600
TZOFFSETTO:-0500
RDATE:20270314T020000
END:DAYLIGHT
END:VTIMEZONE
BEGIN:VEVENT
UID:ebe504a3-8921-48d8-bded-ec0c732ac4e5
DTSTAMP:20260426T010911Z
DESCRIPTION:
DTSTART;TZID=America/Chicago:20260407T173000
DTEND;TZID=America/Chicago:20260407T183000
LOCATION:2202 S 11th St\, Lincoln\, NE\, NE 68502 US
SUMMARY:SMART Recovery for Youth
END:VEVENT
END:VCALENDAR
