BEGIN:VCALENDAR
VERSION:2.0
PRODID:-//centerpointe.org//NONSGML kigkonsult.se iCalcreator 2.30.10//
CALSCALE:GREGORIAN
METHOD:PUBLISH
UID:95cb581b-d3f7-493c-b726-489b02549244
X-WR-CALDESC:
X-WR-RELCALID:e2fd34c5df63d9fd140427ccd3bcb244
X-WR-TIMEZONE:America/Chicago
BEGIN:VTIMEZONE
TZID:America/Chicago
BEGIN:STANDARD
TZNAME:CST
DTSTART:20251102T020000
TZOFFSETFROM:-0500
TZOFFSETTO:-0600
RDATE:20261101T020000
END:STANDARD
BEGIN:DAYLIGHT
TZNAME:CDT
DTSTART:20260308T020000
TZOFFSETFROM:-0600
TZOFFSETTO:-0500
RDATE:20270314T020000
END:DAYLIGHT
END:VTIMEZONE
BEGIN:VEVENT
UID:011f20f5-a7f5-453f-9deb-d79d30084b2f
DTSTAMP:20260426T010405Z
DESCRIPTION:
DTSTART;TZID=America/Chicago:20260408T173000
DTEND;TZID=America/Chicago:20260408T183000
LOCATION:2202 S 11th St\, Lincoln\, NE\, NE 68502 US
SUMMARY:SMART Recovery
END:VEVENT
END:VCALENDAR
