BEGIN:VCALENDAR
VERSION:2.0
PRODID:-//centerpointe.org//NONSGML kigkonsult.se iCalcreator 2.30.10//
CALSCALE:GREGORIAN
METHOD:PUBLISH
UID:6ab5d63d-6105-4943-b637-32987233343a
X-WR-CALDESC:
X-WR-RELCALID:6b77bc117c41507ed3a4d432a4a63b18
X-WR-TIMEZONE:America/Chicago
BEGIN:VTIMEZONE
TZID:America/Chicago
BEGIN:STANDARD
TZNAME:CST
DTSTART:20251102T020000
TZOFFSETFROM:-0500
TZOFFSETTO:-0600
RDATE:20261101T020000
END:STANDARD
BEGIN:DAYLIGHT
TZNAME:CDT
DTSTART:20260308T020000
TZOFFSETFROM:-0600
TZOFFSETTO:-0500
RDATE:20270314T020000
END:DAYLIGHT
END:VTIMEZONE
BEGIN:VEVENT
UID:01b001aa-f206-4b6b-95f8-2f7cdf095bf8
DTSTAMP:20260426T011018Z
DESCRIPTION:
DTSTART;TZID=America/Chicago:20260409T173000
DTEND;TZID=America/Chicago:20260409T193000
LOCATION:2202 S 11th St\, Lincoln\, NE 68502 US
SUMMARY:Women's Yoga of 12-Step Recovery
END:VEVENT
END:VCALENDAR
