BEGIN:VCALENDAR
VERSION:2.0
PRODID:-//centerpointe.org//NONSGML kigkonsult.se iCalcreator 2.30.10//
CALSCALE:GREGORIAN
METHOD:PUBLISH
UID:47bce1c3-74d6-4a82-b1f3-0ea6263878ad
X-WR-CALDESC:
X-WR-RELCALID:aa5cb67f4f42915abb7f50ccb5f219f2
X-WR-TIMEZONE:America/Chicago
BEGIN:VTIMEZONE
TZID:America/Chicago
BEGIN:STANDARD
TZNAME:CST
DTSTART:20251102T020000
TZOFFSETFROM:-0500
TZOFFSETTO:-0600
RDATE:20261101T020000
END:STANDARD
BEGIN:DAYLIGHT
TZNAME:CDT
DTSTART:20260308T020000
TZOFFSETFROM:-0600
TZOFFSETTO:-0500
RDATE:20270314T020000
END:DAYLIGHT
END:VTIMEZONE
BEGIN:VEVENT
UID:bd0a5add-4f86-4b88-beea-bd1868ad3923
DTSTAMP:20260426T010258Z
DESCRIPTION:
DTSTART;TZID=America/Chicago:20260413T140000
DTEND;TZID=America/Chicago:20260413T150000
LOCATION:2202 S. 11th St. \, Lincoln \, NE 68502 US
SUMMARY:WRAP Group
END:VEVENT
END:VCALENDAR
