BEGIN:VCALENDAR
VERSION:2.0
PRODID:-//centerpointe.org//NONSGML kigkonsult.se iCalcreator 2.30.10//
CALSCALE:GREGORIAN
METHOD:PUBLISH
UID:84e02580-ac2d-4c8b-abe3-70b3581435c6
X-WR-CALDESC:Create your way forward.\n\nThis group invites participants to
  use creativity as a tool for healing and self-expression. Through art\, w
 riting\, and creative activities\, members can explore their recovery jour
 ney\, develop healthy coping strategies\, and connect with a supportive co
 mmunity - no creative experience required.
X-WR-RELCALID:279fb3247edd41e93331ebe31b207150
X-WR-TIMEZONE:America/Chicago
BEGIN:VTIMEZONE
TZID:America/Chicago
BEGIN:STANDARD
TZNAME:CST
DTSTART:20251102T020000
TZOFFSETFROM:-0500
TZOFFSETTO:-0600
RDATE:20261101T020000
END:STANDARD
BEGIN:DAYLIGHT
TZNAME:CDT
DTSTART:20260308T020000
TZOFFSETFROM:-0600
TZOFFSETTO:-0500
RDATE:20270314T020000
END:DAYLIGHT
END:VTIMEZONE
BEGIN:VEVENT
UID:62306e8a-65bf-4680-a8dc-54d69b89e506
DTSTAMP:20260426T010737Z
DESCRIPTION:Create your way forward.\n\nThis group invites participants to 
 use creativity as a tool for healing and self-expression. Through art\, wr
 iting\, and creative activities\, members can explore their recovery journ
 ey\, develop healthy coping strategies\, and connect with a supportive com
 munity - no creative experience required.
DTSTART;TZID=America/Chicago:20260420T160000
DTEND;TZID=America/Chicago:20260420T170000
LOCATION:2202 S 11th St\, Lincoln\, NE 68502 US
SUMMARY:Recovery Creatives
END:VEVENT
END:VCALENDAR
