BEGIN:VCALENDAR
VERSION:2.0
PRODID:-//centerpointe.org//NONSGML kigkonsult.se iCalcreator 2.30.10//
CALSCALE:GREGORIAN
METHOD:PUBLISH
UID:701688d3-b0f5-4c1c-b84f-e2a91205ddc2
X-WR-CALDESC:
X-WR-RELCALID:480598568911112fc523106a8484ff30
X-WR-TIMEZONE:America/Chicago
BEGIN:VTIMEZONE
TZID:America/Chicago
BEGIN:STANDARD
TZNAME:CST
DTSTART:20251102T020000
TZOFFSETFROM:-0500
TZOFFSETTO:-0600
RDATE:20261101T020000
END:STANDARD
BEGIN:DAYLIGHT
TZNAME:CDT
DTSTART:20260308T020000
TZOFFSETFROM:-0600
TZOFFSETTO:-0500
RDATE:20270314T020000
END:DAYLIGHT
END:VTIMEZONE
BEGIN:VEVENT
UID:4fe5755e-70c6-4dd3-8578-4ed4389964fc
DTSTAMP:20260426T010819Z
DESCRIPTION:
DTSTART;TZID=America/Chicago:20260421T173000
DTEND;TZID=America/Chicago:20260421T183000
LOCATION:2202 S 11th St\, Lincoln\, NE\, NE 68502 US
SUMMARY:SMART Recovery for Youth
END:VEVENT
END:VCALENDAR
