BEGIN:VCALENDAR
VERSION:2.0
PRODID:-//centerpointe.org//NONSGML kigkonsult.se iCalcreator 2.30.10//
CALSCALE:GREGORIAN
METHOD:PUBLISH
UID:13899a2d-2da7-4b5a-8fd3-ffc04e2c7d01
X-WR-CALDESC:
X-WR-RELCALID:f6fc6707279e374063a42a38189137e6
X-WR-TIMEZONE:America/Chicago
BEGIN:VTIMEZONE
TZID:America/Chicago
BEGIN:STANDARD
TZNAME:CST
DTSTART:20251102T020000
TZOFFSETFROM:-0500
TZOFFSETTO:-0600
RDATE:20261101T020000
END:STANDARD
BEGIN:DAYLIGHT
TZNAME:CDT
DTSTART:20260308T020000
TZOFFSETFROM:-0600
TZOFFSETTO:-0500
RDATE:20270314T020000
END:DAYLIGHT
END:VTIMEZONE
BEGIN:VEVENT
UID:c7de53b7-92be-4037-a2c6-78aeaf8efc6a
DTSTAMP:20260426T010518Z
DESCRIPTION:
DTSTART;TZID=America/Chicago:20260422T173000
DTEND;TZID=America/Chicago:20260422T183000
LOCATION:2202 S 11th St\, Lincoln\, NE\, NE 68502 US
SUMMARY:SMART Recovery
END:VEVENT
END:VCALENDAR
