BEGIN:VCALENDAR
VERSION:2.0
PRODID:-//centerpointe.org//NONSGML kigkonsult.se iCalcreator 2.30.10//
CALSCALE:GREGORIAN
METHOD:PUBLISH
UID:0c96d81a-d8cc-4c08-b9c4-dde5d38bca76
X-WR-CALDESC:
X-WR-RELCALID:8d567eb3d21aaff8b32b11dde485c933
X-WR-TIMEZONE:America/Chicago
BEGIN:VTIMEZONE
TZID:America/Chicago
BEGIN:STANDARD
TZNAME:CST
DTSTART:20251102T020000
TZOFFSETFROM:-0500
TZOFFSETTO:-0600
RDATE:20261101T020000
END:STANDARD
BEGIN:DAYLIGHT
TZNAME:CDT
DTSTART:20260308T020000
TZOFFSETFROM:-0600
TZOFFSETTO:-0500
RDATE:20270314T020000
END:DAYLIGHT
END:VTIMEZONE
BEGIN:VEVENT
UID:6b7f0d10-dd5d-47fe-b121-461780f075b4
DTSTAMP:20260426T010405Z
DESCRIPTION:
DTSTART;TZID=America/Chicago:20260423T120000
DTEND;TZID=America/Chicago:20260423T130000
LOCATION:2202 S. 11th St.\, Lincoln\, NE 68502 US
SUMMARY:SMART Recovery
END:VEVENT
END:VCALENDAR
