BEGIN:VCALENDAR
VERSION:2.0
PRODID:-//centerpointe.org//NONSGML kigkonsult.se iCalcreator 2.30.10//
CALSCALE:GREGORIAN
METHOD:PUBLISH
UID:b03f3bb7-575d-43dc-bdec-69ef592cb56c
X-WR-CALDESC:
X-WR-RELCALID:d9ff4c6f60e22fe892a738a5f9eda7c4
X-WR-TIMEZONE:America/Chicago
BEGIN:VTIMEZONE
TZID:America/Chicago
BEGIN:STANDARD
TZNAME:CST
DTSTART:20251102T020000
TZOFFSETFROM:-0500
TZOFFSETTO:-0600
RDATE:20261101T020000
END:STANDARD
BEGIN:DAYLIGHT
TZNAME:CDT
DTSTART:20260308T020000
TZOFFSETFROM:-0600
TZOFFSETTO:-0500
RDATE:20270314T020000
END:DAYLIGHT
END:VTIMEZONE
BEGIN:VEVENT
UID:dcb1c742-1836-4ae2-b8da-26eb6f20318b
DTSTAMP:20260426T011003Z
DESCRIPTION:
DTSTART;TZID=America/Chicago:20260428T173000
DTEND;TZID=America/Chicago:20260428T183000
LOCATION:2202 S 11th St\, Lincoln\, NE\, NE 68502 US
SUMMARY:SMART Recovery for Youth
END:VEVENT
END:VCALENDAR
