BEGIN:VCALENDAR
VERSION:2.0
PRODID:-//centerpointe.org//NONSGML kigkonsult.se iCalcreator 2.30.10//
CALSCALE:GREGORIAN
METHOD:PUBLISH
UID:c9436cd7-e8d8-4096-be92-98e815cd5d17
X-WR-CALDESC:Learn to cook healthy\, affordable\, and easy meals! Get hands
 -on in the kitchen and enjoy the dishes you create.
X-WR-RELCALID:a1adbe072c19d89cadd30e30ed5969a6
X-WR-TIMEZONE:America/Chicago
BEGIN:VTIMEZONE
TZID:America/Chicago
BEGIN:STANDARD
TZNAME:CST
DTSTART:20251102T020000
TZOFFSETFROM:-0500
TZOFFSETTO:-0600
RDATE:20261101T020000
END:STANDARD
BEGIN:DAYLIGHT
TZNAME:CDT
DTSTART:20260308T020000
TZOFFSETFROM:-0600
TZOFFSETTO:-0500
RDATE:20270314T020000
END:DAYLIGHT
END:VTIMEZONE
BEGIN:VEVENT
UID:cc2d7bf2-251c-494a-b69b-8a7c5745e6ef
DTSTAMP:20260426T010255Z
DESCRIPTION:Learn to cook healthy\, affordable\, and easy meals! Get hands-
 on in the kitchen and enjoy the dishes you create.
DTSTART;TZID=America/Chicago:20260428T173000
DTEND;TZID=America/Chicago:20260428T183000
LOCATION:2202 S 11th St\, Lincoln\, NE 68502 US
SUMMARY:What's Cooking ?
END:VEVENT
END:VCALENDAR
