BEGIN:VCALENDAR
VERSION:2.0
PRODID:-//centerpointe.org//NONSGML kigkonsult.se iCalcreator 2.30.10//
CALSCALE:GREGORIAN
METHOD:PUBLISH
UID:28d7bd10-7dd8-4c8e-ada1-834cd2d65998
X-WR-CALDESC:
X-WR-RELCALID:56feea4cfdcc8d6c16bc2d0bd1e85032
X-WR-TIMEZONE:America/Chicago
BEGIN:VTIMEZONE
TZID:America/Chicago
BEGIN:STANDARD
TZNAME:CST
DTSTART:20251102T020000
TZOFFSETFROM:-0500
TZOFFSETTO:-0600
RDATE:20261101T020000
END:STANDARD
BEGIN:DAYLIGHT
TZNAME:CDT
DTSTART:20260308T020000
TZOFFSETFROM:-0600
TZOFFSETTO:-0500
RDATE:20270314T020000
END:DAYLIGHT
END:VTIMEZONE
BEGIN:VEVENT
UID:604cd42b-e302-4925-8278-b297d9d1d205
DTSTAMP:20260426T010619Z
DESCRIPTION:
DTSTART;TZID=America/Chicago:20260429T140000
DTEND;TZID=America/Chicago:20260429T150000
LOCATION:2202 S. 11th St.\, Lincoln\, NE 68502 US
SUMMARY:Peer Empowerment Connections Group
END:VEVENT
END:VCALENDAR
